BEGIN:VCALENDAR
VERSION:2.0
PRODID:-//Brown | Streza - ECPv6.15.20//NONSGML v1.0//EN
CALSCALE:GREGORIAN
METHOD:PUBLISH
X-ORIGINAL-URL:https://www.brownandstreza.com
X-WR-CALDESC:Events for Brown | Streza
REFRESH-INTERVAL;VALUE=DURATION:PT1H
X-Robots-Tag:noindex
X-PUBLISHED-TTL:PT1H
BEGIN:VTIMEZONE
TZID:UTC
BEGIN:STANDARD
TZOFFSETFROM:+0000
TZOFFSETTO:+0000
TZNAME:UTC
DTSTART:20240101T000000
END:STANDARD
END:VTIMEZONE
BEGIN:VEVENT
DTSTART;TZID=UTC:20250611T120000
DTEND;TZID=UTC:20250611T131500
DTSTAMP:20260419T125828
CREATED:20250407T225530Z
LAST-MODIFIED:20250528T154548Z
UID:6162-1749643200-1749647700@www.brownandstreza.com
SUMMARY:Trump 2.0: A Mid-Year Report and Important Legal Updates
DESCRIPTION:Earn 1.0 hour of CLE credit \nJoin us for an in-depth update on the Trump administration’s education policies and legal decisions impacting schools\, higher education\, and religious liberty. \n\nWe will review and provide an update on the Trump administration’s progress in implementing its education priorities…\n\nreturning education policymaking and decisions to the states\nenforcing the definition of sex as biological “male” and “female” in Title IX\nholding schools accountable in the application of Title VI\nreshaping institutions of higher education\, highlighting the events taking place at Harvard and Columbia and the proposed plan to raise taxes on university endowments\n\n\nWe will also provide updates and outcomes in recent school and employment legal decisions that may have religious liberty implications.\n\n  \nWe hope you will join us on June 11th! RSVP here.  \n  \nPresented by: Heather A. Lachenauer\, J.D.\, M.A. \nModerated by: John C. Peiffer II\, J.D.\, A.M. \n  \nEvent Timeline:  \n\n12:00 pm – 1:00 pm Presentation\n1:00 pm – 1:15 pm Optional Q&A
URL:https://www.brownandstreza.com/event/trump-2-0-mid-year-report/
LOCATION:Virtual via Zoom
ATTACH;FMTTYPE=image/jpeg:https://www.brownandstreza.com/wp-content/uploads/2025/04/New-Branding-Webinar-LI-graphics-29.jpg
END:VEVENT
END:VCALENDAR