BEGIN:VCALENDAR
VERSION:2.0
PRODID:-//Brown | Streza - ECPv6.15.20//NONSGML v1.0//EN
CALSCALE:GREGORIAN
METHOD:PUBLISH
X-WR-CALNAME:Brown | Streza
X-ORIGINAL-URL:https://www.brownandstreza.com
X-WR-CALDESC:Events for Brown | Streza
REFRESH-INTERVAL;VALUE=DURATION:PT1H
X-Robots-Tag:noindex
X-PUBLISHED-TTL:PT1H
BEGIN:VTIMEZONE
TZID:UTC
BEGIN:STANDARD
TZOFFSETFROM:+0000
TZOFFSETTO:+0000
TZNAME:UTC
DTSTART:20230101T000000
END:STANDARD
END:VTIMEZONE
BEGIN:VEVENT
DTSTART;TZID=UTC:20241114T120000
DTEND;TZID=UTC:20241114T130000
DTSTAMP:20260419T223241
CREATED:20240822T005851Z
LAST-MODIFIED:20241022T030414Z
UID:2148-1731585600-1731589200@www.brownandstreza.com
SUMMARY:Philanthropic Strategies for Successful Families
DESCRIPTION:This webinar will provide an overview of three common tools successful families use to organize and execute on their charitable goals. \nRegister via Zoom \nYou may be familiar with the statement “Charity begins at home\,” but the complete proverb actually says “Charity begins at home\, but should not end there.” This webinar will take this proverb a step further by providing an overview of three common tools successful families use to organize and execute on their charitable goals. \nPresented by: John C. Peiffer II and Casey S. Hale \nOverview of Philanthropy Vehicles \n\nPrivate Foundations\nDonor Advised Funds\nType 1 Supporting Organizations\n\nAssessment \n\nTax Efficiency\nLegal/Compliance Issues\nControl\nDonor Privacy
URL:https://www.brownandstreza.com/event/philanthropic-strategies-for-successful-families/
LOCATION:Virtual via Zoom
ATTACH;FMTTYPE=image/webp:https://www.brownandstreza.com/wp-content/uploads/2024/08/Philanthropic-Strategies-for-Successful-Families.webp
END:VEVENT
BEGIN:VEVENT
DTSTART;TZID=UTC:20241119T100000
DTEND;TZID=UTC:20241119T230000
DTSTAMP:20260419T223241
CREATED:20240822T010154Z
LAST-MODIFIED:20241022T030507Z
UID:2160-1732010400-1732057200@www.brownandstreza.com
SUMMARY:Religious Liberty Update Part 3: Cases Affecting Churches\, Religious Ministries\, and Schools
DESCRIPTION:Join Brown & Streza attorneys for a discussion on a number of questions as they review recent and ongoing court cases. \nRegister via Zoom \nHow much protection does the First Amendment provide in churches’ self-government? How does federal law protect churches’ property rights? Join Brown & Streza attorneys for a discussion on these questions and more as they review recent and ongoing court cases. \nPresented by: Paul Schmitt and Heather A. Lachenauer\, J.D.\, M.A.
URL:https://www.brownandstreza.com/event/religious-liberty-update-part-3-cases-affecting-churches-religious-ministries-and-schools/
LOCATION:Virtual via Zoom
ATTACH;FMTTYPE=image/webp:https://www.brownandstreza.com/wp-content/uploads/2024/08/Religious-Liberty-Update-Part-3-Cases-Affecting-Churches-Religious-Ministries-and-Schools.webp
END:VEVENT
END:VCALENDAR