BEGIN:VCALENDAR
VERSION:2.0
PRODID:-//Brown | Streza - ECPv6.15.20//NONSGML v1.0//EN
CALSCALE:GREGORIAN
METHOD:PUBLISH
X-WR-CALNAME:Brown | Streza
X-ORIGINAL-URL:https://www.brownandstreza.com
X-WR-CALDESC:Events for Brown | Streza
REFRESH-INTERVAL;VALUE=DURATION:PT1H
X-Robots-Tag:noindex
X-PUBLISHED-TTL:PT1H
BEGIN:VTIMEZONE
TZID:UTC
BEGIN:STANDARD
TZOFFSETFROM:+0000
TZOFFSETTO:+0000
TZNAME:UTC
DTSTART:20240101T000000
END:STANDARD
END:VTIMEZONE
BEGIN:VEVENT
DTSTART;TZID=UTC:20250408T120000
DTEND;TZID=UTC:20250408T131500
DTSTAMP:20260419T170418
CREATED:20250228T172821Z
LAST-MODIFIED:20250228T183018Z
UID:6001-1744113600-1744118100@www.brownandstreza.com
SUMMARY:Private Foundations: 5 Most Frequently Asked Questions and 5 Things You Probably Don’t Know
DESCRIPTION:Private foundations are often misunderstood and sometimes maligned as a philanthropic vehicle. Although private foundations are subject to stringent laws\, there are nevertheless plenty of ways private foundations can carry out creative and effective philanthropic initiatives. They are not limited merely to grant making. \nJoin Casey and Zan to learn about the five questions they are most frequently asked regarding private foundations as well as five things you might not know you can do with a private foundation. Click here to RSVP. \nPresenters:  \nCasey S. Hale \nAlexander “Zan” Schindler
URL:https://www.brownandstreza.com/event/pf-5-most-faq/
LOCATION:Virtual via Zoom
ATTACH;FMTTYPE=image/jpeg:https://www.brownandstreza.com/wp-content/uploads/2025/02/New-Branding-Webinar-LI-graphics-27.jpg
END:VEVENT
END:VCALENDAR