BEGIN:VCALENDAR
VERSION:2.0
PRODID:-//Brown | Streza - ECPv6.15.20//NONSGML v1.0//EN
CALSCALE:GREGORIAN
METHOD:PUBLISH
X-WR-CALNAME:Brown | Streza
X-ORIGINAL-URL:https://www.brownandstreza.com
X-WR-CALDESC:Events for Brown | Streza
REFRESH-INTERVAL;VALUE=DURATION:PT1H
X-Robots-Tag:noindex
X-PUBLISHED-TTL:PT1H
BEGIN:VTIMEZONE
TZID:UTC
BEGIN:STANDARD
TZOFFSETFROM:+0000
TZOFFSETTO:+0000
TZNAME:UTC
DTSTART:20230101T000000
END:STANDARD
END:VTIMEZONE
BEGIN:VEVENT
DTSTART;TZID=UTC:20241017T100000
DTEND;TZID=UTC:20241017T113000
DTSTAMP:20260422T011339
CREATED:20240822T004440Z
LAST-MODIFIED:20240912T231551Z
UID:2103-1729159200-1729164600@www.brownandstreza.com
SUMMARY:Keeping the Faith: Legal Strategies to Fortify Your Ministry
DESCRIPTION:Strategies to Protect your Religious Liberty and Identity \nRegister via Zoom \nAs part of a three-part series\, we will discuss: \n\nCorporate restructuring strategies learned from the business world\nHow to navigate challenges to corporate restructuring\nCase studies illustrating how these strategies are implemented\n\nPresented by: John C. Peiffer II and Casey S. Hale \n  \nSchedule\n\n\n\n\nPresentation \n10:00 AM – 11:15 AM\n1 hour 15 minutes \n\n\n\n\n\n\n\n\n\n\n\nQ&A \n11:15 AM – 11:30 AM\n15 minutes
URL:https://www.brownandstreza.com/event/keeping-the-faith-legal-strategies-to-fortify-your-ministry/
LOCATION:Virtual via Zoom
ATTACH;FMTTYPE=image/jpeg:https://www.brownandstreza.com/wp-content/uploads/2024/08/Religious-Event.jpg
END:VEVENT
END:VCALENDAR